BEGIN:VCALENDAR
VERSION:2.0
PRODID:-//Tulsa Foam Fighting - ECPv6.5.0.1//NONSGML v1.0//EN
CALSCALE:GREGORIAN
METHOD:PUBLISH
X-ORIGINAL-URL:https://tulsafoamfighting.com
X-WR-CALDESC:Events for Tulsa Foam Fighting
REFRESH-INTERVAL;VALUE=DURATION:PT1H
X-Robots-Tag:noindex
X-PUBLISHED-TTL:PT1H
BEGIN:VTIMEZONE
TZID:UTC
BEGIN:STANDARD
TZOFFSETFROM:+0000
TZOFFSETTO:+0000
TZNAME:UTC
DTSTART:20240101T000000
END:STANDARD
END:VTIMEZONE
BEGIN:VEVENT
DTSTART;TZID=UTC:20240810T000000
DTEND;TZID=UTC:20240810T235959
DTSTAMP:20260419T213426
CREATED:20240615T192607Z
LAST-MODIFIED:20240615T192607Z
UID:66-1723248000-1723334399@tulsafoamfighting.com
SUMMARY:Red Storm End Reign
DESCRIPTION:
URL:https://tulsafoamfighting.com/event/red-storm-end-reign/
LOCATION:Henthorne\, Tulsa\, OK\, United States
END:VEVENT
END:VCALENDAR