BEGIN:VCALENDAR
VERSION:2.0
PRODID:-//Tulsa Foam Fighting - ECPv6.5.0.1//NONSGML v1.0//EN
CALSCALE:GREGORIAN
METHOD:PUBLISH
X-WR-CALNAME:Tulsa Foam Fighting
X-ORIGINAL-URL:https://tulsafoamfighting.com
X-WR-CALDESC:Events for Tulsa Foam Fighting
REFRESH-INTERVAL;VALUE=DURATION:PT1H
X-Robots-Tag:noindex
X-PUBLISHED-TTL:PT1H
BEGIN:VTIMEZONE
TZID:UTC
BEGIN:STANDARD
TZOFFSETFROM:+0000
TZOFFSETTO:+0000
TZNAME:UTC
DTSTART:20240101T000000
END:STANDARD
END:VTIMEZONE
BEGIN:VEVENT
DTSTART;TZID=UTC:20240727T000000
DTEND;TZID=UTC:20240727T235959
DTSTAMP:20260420T055808
CREATED:20240608T143756Z
LAST-MODIFIED:20240608T143756Z
UID:58-1722038400-1722124799@tulsafoamfighting.com
SUMMARY:Crescent Port Pool Party
DESCRIPTION:Casual day event. Start off running a few feild games. After wards we’ll host a good ole BBQ while we soak the day away in the pool.
URL:https://tulsafoamfighting.com/event/crescent-port-pool-party/
LOCATION:Unknown\, 746 Kirk Rd Ochelata\, OK 74051\, Ochelata\, OK\, 74051\, United States
END:VEVENT
BEGIN:VEVENT
DTSTART;TZID=UTC:20240705T080000
DTEND;TZID=UTC:20240707T170000
DTSTAMP:20260420T055808
CREATED:20240608T142855Z
LAST-MODIFIED:20240608T143212Z
UID:51-1720166400-1720371600@tulsafoamfighting.com
SUMMARY:End Reign 72
DESCRIPTION:
URL:https://tulsafoamfighting.com/event/end-reign-72/
LOCATION:Lake Wister\, Lake Wister State Park Group Camp\, Lake Wister State Park\, Wister\, OK 74966\, Wister\, OK\, United States
END:VEVENT
END:VCALENDAR